BEGIN:VCALENDAR
VERSION:2.0
PRODID:-//UNI.VO.C.A. - ECPv5.9.1//NONSGML v1.0//EN
CALSCALE:GREGORIAN
METHOD:PUBLISH
X-WR-CALNAME:UNI.VO.C.A.
X-ORIGINAL-URL:https://www.univoca.org
X-WR-CALDESC:Eventi per UNI.VO.C.A.
BEGIN:VTIMEZONE
TZID:Europe/Rome
BEGIN:DAYLIGHT
TZOFFSETFROM:+0100
TZOFFSETTO:+0200
TZNAME:CEST
DTSTART:20220327T010000
END:DAYLIGHT
BEGIN:STANDARD
TZOFFSETFROM:+0200
TZOFFSETTO:+0100
TZNAME:CET
DTSTART:20221030T010000
END:STANDARD
END:VTIMEZONE
BEGIN:VEVENT
DTSTART;TZID=Europe/Rome:20220428T173000
DTEND;TZID=Europe/Rome:20220428T210000
DTSTAMP:20260422T111435
CREATED:20220419T143752Z
LAST-MODIFIED:20220419T143753Z
UID:6121-1651167000-1651179600@www.univoca.org
SUMMARY:VIVANT - MUFANT – Museo del Fantastico e della Fantascienza.
DESCRIPTION:0SHARESCondividiTweet\n            \n                \n            • Giovedì 28 aprile 2022\, il socio Piero Gondolo della Riva illustrerà la sua collezione – unica al mondo – di 172 piatti dedicati al futuro\, in mostra al MUFANT – Museo del Fantastico e della Fantascienza in Torino (Piazza Riccardo Valla n. 5\, 10148 Torino Tel. 347 5405096 – 349 8171960 (l’ingresso si trova di fronte alla statua di Capitan Harlock).\nIl programma prevede:-\n– Ore 17.30 inizio della visita guidata. Il MUFANT propone per VIVANT un prezzo speciale per il biglietto di ingresso: 5 € anziché 8.\n– Ore 19.30 pranzo\, per chi lo desideri\, presso il Ristorante La Piola\, piazza Conti Rebaudengo 7\, tel. 392 460 4484. Cucina tradizionale piemontese con antipasti\, un primo\, dolce\, vino\, caffè\, ecc. € 30. \nPer il pranzo è obbligatorio prenotarsi entro il 25 aprile (tel. 011 6693680\, lasciare il messaggio sulla segreteria telefonica specificando il proprio nome ed il numero delle persone per cui si prenota; oppure posta@vivant.it).
URL:https://www.univoca.org/evento/vivant-mufant-museo-del-fantastico-e-della-fantascienza/
LOCATION:Torino MUFANT\, Piazza Conti Rebaudengo\, 7\, Torino
CATEGORIES:Eventi
ATTACH;FMTTYPE=image/jpeg:https://www.univoca.org/wp-content/uploads/vivant-rid.jpg
ORGANIZER;CN="Vivant":MAILTO:posta@vivant.it
END:VEVENT
END:VCALENDAR