BEGIN:VCALENDAR
VERSION:2.0
PRODID:-//UNI.VO.C.A. - ECPv5.9.1//NONSGML v1.0//EN
CALSCALE:GREGORIAN
METHOD:PUBLISH
X-WR-CALNAME:UNI.VO.C.A.
X-ORIGINAL-URL:https://www.univoca.org
X-WR-CALDESC:Eventi per UNI.VO.C.A.
BEGIN:VTIMEZONE
TZID:Europe/Rome
BEGIN:DAYLIGHT
TZOFFSETFROM:+0100
TZOFFSETTO:+0200
TZNAME:CEST
DTSTART:20220327T010000
END:DAYLIGHT
BEGIN:STANDARD
TZOFFSETFROM:+0200
TZOFFSETTO:+0100
TZNAME:CET
DTSTART:20221030T010000
END:STANDARD
END:VTIMEZONE
BEGIN:VEVENT
DTSTART;TZID=Europe/Rome:20220419T090000
DTEND;TZID=Europe/Rome:20220605T183000
DTSTAMP:20260422T074719
CREATED:20220419T133319Z
LAST-MODIFIED:20220419T133320Z
UID:6092-1650358800-1654453800@www.univoca.org
SUMMARY:TORINO. Aida e l’avvicinamento di due mondi. Il Museo Egizio celebra l’opera verdiana.
DESCRIPTION:0SHARESCondividiTweet\n            \n                \n            Per celebrare i 150 anni di Aida\, il Museo Egizio racconta la genesi\, il contesto storico e le relazioni che hanno accompagnato la nascita dell’opera verdiana\, un capolavoro frutto del dialogo fra due mondi\, Europa ed Egitto\, che la musica unisce sottolineando il legame imprescindibile fra le due sponde opposte del Mediterraneo.\nÈ l’inizio di giugno del 1870 e Giuseppe Verdi accetta dal viceré d’Egitto\, Ismail Pascià\, un compenso senza precedenti per comporre un’opera lirica\, in lingua italiana\, ambientata al tempo dei faraoni: Aida. ? Caso unico nella storia della lirica\, l’opera è celebrata da due “prime”\, al Cairo il 24 dicembre 1871 e a Milano l’8 febbraio 1872\, ed è oggi tra i lavori più celebrati di Verdi.\nLa mostra “AIDA\, figlia di due mondi” sarà visitabile fino al 5 giugno ed è parte di un più ampio progetto transmediale ricco di appuntamenti sviluppati in collaborazione con partner che hanno reso possibile l’ampliamento di una esperienza innovativa\, molto articolata\, che mette in connessione musica\, immagini\, architettura\, cinema\, dialoghi e archivi storici\, podcast\, video e visite guidate: Teatro Regio\, Archivio Ricordi\, Istituto Nazionale di Studi Verdiani\, l’Università di Torino\, Aiace\, Museo del Cinema\, Biblioteca Braidense\, Circolo dei Lettori\, Libreria Gilibert. \nInfo: 011 4406903 – info@museitorino.it – Dal lunedì al sabato dalle ore 9:00 alle 18:30\nTariffe: https://www.museoegizio.it/info/prezzi/\nAll’ingresso della mostra\, inquadrate il QR Code per fare la visita accompagnati dalla voce del curatore Enrico Ferraris.
URL:https://www.univoca.org/evento/torino-aida-e-lavvicinamento-di-due-mondi-il-museo-egizio-celebra-lopera-verdiana/
LOCATION:Torino – Museo Egizio
CATEGORIES:Mostre
ATTACH;FMTTYPE=image/jpeg:https://www.univoca.org/wp-content/uploads/aida.jpg
END:VEVENT
END:VCALENDAR