BEGIN:VCALENDAR
VERSION:2.0
PRODID:-//UNI.VO.C.A. - ECPv5.9.1//NONSGML v1.0//EN
CALSCALE:GREGORIAN
METHOD:PUBLISH
X-WR-CALNAME:UNI.VO.C.A.
X-ORIGINAL-URL:https://www.univoca.org
X-WR-CALDESC:Eventi per UNI.VO.C.A.
BEGIN:VTIMEZONE
TZID:Europe/Rome
BEGIN:DAYLIGHT
TZOFFSETFROM:+0100
TZOFFSETTO:+0200
TZNAME:CEST
DTSTART:20220327T010000
END:DAYLIGHT
BEGIN:STANDARD
TZOFFSETFROM:+0200
TZOFFSETTO:+0100
TZNAME:CET
DTSTART:20221030T010000
END:STANDARD
END:VTIMEZONE
BEGIN:VEVENT
DTSTART;TZID=Europe/Rome:20220226T163000
DTEND;TZID=Europe/Rome:20220226T180000
DTSTAMP:20260421T175854
CREATED:20220116T144144Z
LAST-MODIFIED:20220116T144144Z
UID:5791-1645893000-1645898400@www.univoca.org
SUMMARY:MUSICAVIVA: SPAZI - NOVI CANTORES TORINO
DESCRIPTION:0SHARESCondividiTweet\n            \n                \n            * Sabato 26 febbraio 2022\, ore 16:30 TORINO CHAMBER MUSIC FESTIVAL REAL CHIESA DI SAN LORENZO\, SPAZI – NOVI CANTORES TORINO\nDirettore Marta Dziubinska e Matteo Gentile.\nMusica di: Lang\, Pärt\, Tavener\nIngresso Libero – A sostegno del concerto è gradita una offerta.
URL:https://www.univoca.org/evento/musicaviva-spazi-novi-cantores-torino/
LOCATION:TORINO ChiesaSan Lorenzo\, Piazza Castello\, Torino
CATEGORIES:Eventi
ATTACH;FMTTYPE=image/jpeg:https://www.univoca.org/wp-content/uploads/musicaviva.jpg
END:VEVENT
END:VCALENDAR