BEGIN:VCALENDAR
VERSION:2.0
PRODID:-//UNI.VO.C.A. - ECPv5.9.1//NONSGML v1.0//EN
CALSCALE:GREGORIAN
METHOD:PUBLISH
X-WR-CALNAME:UNI.VO.C.A.
X-ORIGINAL-URL:https://www.univoca.org
X-WR-CALDESC:Eventi per UNI.VO.C.A.
BEGIN:VTIMEZONE
TZID:Europe/Rome
BEGIN:DAYLIGHT
TZOFFSETFROM:+0100
TZOFFSETTO:+0200
TZNAME:CEST
DTSTART:20220327T010000
END:DAYLIGHT
BEGIN:STANDARD
TZOFFSETFROM:+0200
TZOFFSETTO:+0100
TZNAME:CET
DTSTART:20221030T010000
END:STANDARD
END:VTIMEZONE
BEGIN:VEVENT
DTSTART;TZID=Europe/Rome:20220402T170000
DTEND;TZID=Europe/Rome:20220402T190000
DTSTAMP:20260422T024008
CREATED:20220321T140755Z
LAST-MODIFIED:20220321T140756Z
UID:6014-1648918800-1648926000@www.univoca.org
SUMMARY:MUSICAVIVA - SCHUBERT E BRAHMS DAL DUO AL SESTETTO N. 1.
DESCRIPTION:0SHARESCondividiTweet\n            \n                \n            • Sabato 2 aprile 2022\, ore 17:00 TORINO CHAMBER MUSIC FESTIVAL CAPPELLA DEI MERCANTI\nSCHUBERT E BRAHMS DAL DUO AL SESTETTO N. 1\nMarco Norzi\, violino Luca Magariello\, violoncello Cecilia Novarino\, pianoforte Musiche di Brahms\, Schubert. Concerto in collaborazione con L’Associazione Music Development\nIngresso € 10\,00 intero – € 8\,00 Ridotto
URL:https://www.univoca.org/evento/musicaviva-schubert-e-brahms-dal-duo-al-sestetto-n-1/
LOCATION:Torino – Cappella dei Mercandi
CATEGORIES:Eventi
END:VEVENT
END:VCALENDAR