BEGIN:VCALENDAR
VERSION:2.0
PRODID:-//UNI.VO.C.A. - ECPv5.9.1//NONSGML v1.0//EN
CALSCALE:GREGORIAN
METHOD:PUBLISH
X-WR-CALNAME:UNI.VO.C.A.
X-ORIGINAL-URL:https://www.univoca.org
X-WR-CALDESC:Eventi per UNI.VO.C.A.
BEGIN:VTIMEZONE
TZID:Europe/Rome
BEGIN:DAYLIGHT
TZOFFSETFROM:+0100
TZOFFSETTO:+0200
TZNAME:CEST
DTSTART:20220327T010000
END:DAYLIGHT
BEGIN:STANDARD
TZOFFSETFROM:+0200
TZOFFSETTO:+0100
TZNAME:CET
DTSTART:20221030T010000
END:STANDARD
END:VTIMEZONE
BEGIN:VEVENT
DTSTART;TZID=Europe/Rome:20220528T163000
DTEND;TZID=Europe/Rome:20220528T180000
DTSTAMP:20260421T141527
CREATED:20220419T140352Z
LAST-MODIFIED:20220419T140352Z
UID:6097-1653755400-1653760800@www.univoca.org
SUMMARY:MUSICAVIVA - PRESENZA ASSENZA CORO ROSAMYSTICA.
DESCRIPTION:0SHARESCondividiTweet\n            \n                \n            * Sabato 28 maggio 2022\, ore 16:30 TORINO CHAMBER MUSIC FESTIVAL REAL CHIESA DI SAN LORENZO PRESENZA ASSENZA CORO ROSAMYSTICA\nDirettore Barbara Sartorio\nMusica di: Rheinberger\, Gallus\, Lotti\, Guerrero\, Palestrina\,\nA sostegno del concerto è gradita una offerta.
URL:https://www.univoca.org/evento/musicaviva-presenza-assenza-coro-rosamystica/
LOCATION:Torino – Chiesa San Lorenzo
CATEGORIES:Eventi
ATTACH;FMTTYPE=image/jpeg:https://www.univoca.org/wp-content/uploads/musicaviva.jpg
END:VEVENT
END:VCALENDAR