BEGIN:VCALENDAR
VERSION:2.0
PRODID:-//UNI.VO.C.A. - ECPv5.9.1//NONSGML v1.0//EN
CALSCALE:GREGORIAN
METHOD:PUBLISH
X-WR-CALNAME:UNI.VO.C.A.
X-ORIGINAL-URL:https://www.univoca.org
X-WR-CALDESC:Eventi per UNI.VO.C.A.
BEGIN:VTIMEZONE
TZID:Europe/Rome
BEGIN:DAYLIGHT
TZOFFSETFROM:+0100
TZOFFSETTO:+0200
TZNAME:CEST
DTSTART:20220327T010000
END:DAYLIGHT
BEGIN:STANDARD
TZOFFSETFROM:+0200
TZOFFSETTO:+0100
TZNAME:CET
DTSTART:20221030T010000
END:STANDARD
END:VTIMEZONE
BEGIN:VEVENT
DTSTART;TZID=Europe/Rome:20220219T170000
DTEND;TZID=Europe/Rome:20220219T183000
DTSTAMP:20260421T124910
CREATED:20220116T144531Z
LAST-MODIFIED:20220116T144531Z
UID:5795-1645290000-1645295400@www.univoca.org
SUMMARY:MUSICAVIVA: DUO GULLINO-FUGA
DESCRIPTION:0SHARESCondividiTweet\n            \n                \n            * Sabato 19 febbraio 2022\, ore 17:00 TORINO CHAMBER MUSIC FESTIVAL CAPPELLA DEI MERCANTI DUO GULLINO-FUGA\nLetizia Gullino\, violino Carlotta Fuga\, pianoforte.\nMusica di Schumann\, Schubert\, Fuga\nIngresso € 10\,00 Intero – € 8\,00 Ridotto
URL:https://www.univoca.org/evento/musicaviva-duo-gullino-fuga/
LOCATION:TORINO – Cappella dei Mercanti\, Via Garibaldi 25\, Torino
CATEGORIES:Eventi
ATTACH;FMTTYPE=image/jpeg:https://www.univoca.org/wp-content/uploads/musicaviva.jpg
END:VEVENT
END:VCALENDAR