BEGIN:VCALENDAR
VERSION:2.0
PRODID:-//UNI.VO.C.A. - ECPv5.9.1//NONSGML v1.0//EN
CALSCALE:GREGORIAN
METHOD:PUBLISH
X-WR-CALNAME:UNI.VO.C.A.
X-ORIGINAL-URL:https://www.univoca.org
X-WR-CALDESC:Eventi per UNI.VO.C.A.
BEGIN:VTIMEZONE
TZID:Europe/Rome
BEGIN:DAYLIGHT
TZOFFSETFROM:+0100
TZOFFSETTO:+0200
TZNAME:CEST
DTSTART:20220327T010000
END:DAYLIGHT
BEGIN:STANDARD
TZOFFSETFROM:+0200
TZOFFSETTO:+0100
TZNAME:CET
DTSTART:20221030T010000
END:STANDARD
END:VTIMEZONE
BEGIN:VEVENT
DTSTART;TZID=Europe/Rome:20220405T170000
DTEND;TZID=Europe/Rome:20220405T183000
DTSTAMP:20260422T042647
CREATED:20220321T140454Z
LAST-MODIFIED:20220321T140454Z
UID:6010-1649178000-1649183400@www.univoca.org
SUMMARY:MUSICAVIVA - CUERDAS PULSADAS.
DESCRIPTION:0SHARESCondividiTweet\n            \n                \n            • Martedì 5 aprile 2022\, ore 17:00 TORINO CHAMBER MUSIC FESTIVAL BIBLIOTECA ANDREA DELLA CORTE VILLA DELLA TESORIERA\nCUERDAS PULSADAS Incontro con le classi di liuto e chitarra di Evangelina Mascardi e Frédéric Zigante. Conservatorio di Alessandria e Milano\nIngresso Libero – A sostegno del concerto è gradita una offerta.
URL:https://www.univoca.org/evento/musicaviva-cuerdas-pulsadas/
LOCATION:Torino – Villa della Tesoriera
CATEGORIES:Eventi
END:VEVENT
END:VCALENDAR