BEGIN:VCALENDAR
VERSION:2.0
PRODID:-//UNI.VO.C.A. - ECPv5.9.1//NONSGML v1.0//EN
CALSCALE:GREGORIAN
METHOD:PUBLISH
X-WR-CALNAME:UNI.VO.C.A.
X-ORIGINAL-URL:https://www.univoca.org
X-WR-CALDESC:Eventi per UNI.VO.C.A.
BEGIN:VTIMEZONE
TZID:Europe/Rome
BEGIN:DAYLIGHT
TZOFFSETFROM:+0100
TZOFFSETTO:+0200
TZNAME:CEST
DTSTART:20220327T010000
END:DAYLIGHT
BEGIN:STANDARD
TZOFFSETFROM:+0200
TZOFFSETTO:+0100
TZNAME:CET
DTSTART:20221030T010000
END:STANDARD
END:VTIMEZONE
BEGIN:VEVENT
DTSTART;TZID=Europe/Rome:20220508T110000
DTEND;TZID=Europe/Rome:20220508T123000
DTSTAMP:20260422T051232
CREATED:20220419T142126Z
LAST-MODIFIED:20220419T142126Z
UID:6108-1652007600-1652013000@www.univoca.org
SUMMARY:MUSICAVIVA - BALLI\, DANZE ED ALTRE CANZONI.
DESCRIPTION:0SHARESCondividiTweet\n            \n                \n            * Domenica 8 Maggio 2022\, ore 11:00 LE NVOVE MVSICHE VILLA DELLA REGINA\nBALLI\, DANZE ED ALTRE CANZONI Ensemble Vocale CLARICANTUS\nDirettore Matteo Gentile\nMusica di: Willaert\, Gastoldi\, De Lassus\nIngresso € 7\,00 per entrata Villa della Regina
URL:https://www.univoca.org/evento/musicaviva-balli-danze-ed-altre-canzoni/
LOCATION:TORINO – Villa della Regina\, Str. S. Margherita 79\, Torino
CATEGORIES:Eventi
ATTACH;FMTTYPE=image/jpeg:https://www.univoca.org/wp-content/uploads/musicaviva.jpg
END:VEVENT
END:VCALENDAR