BEGIN:VCALENDAR
VERSION:2.0
PRODID:-//UNI.VO.C.A. - ECPv5.9.1//NONSGML v1.0//EN
CALSCALE:GREGORIAN
METHOD:PUBLISH
X-WR-CALNAME:UNI.VO.C.A.
X-ORIGINAL-URL:https://www.univoca.org
X-WR-CALDESC:Eventi per UNI.VO.C.A.
BEGIN:VTIMEZONE
TZID:Europe/Rome
BEGIN:DAYLIGHT
TZOFFSETFROM:+0100
TZOFFSETTO:+0200
TZNAME:CEST
DTSTART:20220327T010000
END:DAYLIGHT
BEGIN:STANDARD
TZOFFSETFROM:+0200
TZOFFSETTO:+0100
TZNAME:CET
DTSTART:20221030T010000
END:STANDARD
END:VTIMEZONE
BEGIN:VEVENT
DTSTART;TZID=Europe/Rome:20220310T180000
DTEND;TZID=Europe/Rome:20220310T190000
DTSTAMP:20260421T194240
CREATED:20220213T172740Z
LAST-MODIFIED:20220213T172741Z
UID:5911-1646935200-1646938800@www.univoca.org
SUMMARY:Il mercante di meraviglie: i capolavori del Museo Accorsi-Ometto di Torino.
DESCRIPTION:0SHARESCondividiTweet\n            \n                \n            UNI.VO.C.A. attraverso la piattaforma Agorà del Sapere / Zoom offre a tutti gli iscritti alle Associazioni aderenti una visita guidata online al MUSEO ACCORSI-OMETTO di Torino: \n* Giovedì 10 marzo 2022\, h. 18\,00\, visita guidata online Il mercante di meraviglie: i capolavori del Museo Accorsi-Ometto. \nIl Museo di Arti Decorative nasce dal ricco lascito di Pietro Accorsi\, uno dei più importanti antiquari europei del XX secolo e dall’opera del suo collaboratore Giulio Ometto. Si tratta di un Museo composto da 23 stanze di straordinaria ricchezza\, tra salotti\, camere da letto\, sala da pranzo\, che riproducono ambienti ispirati alle nobili dimore del Settecento. \nLa passeggiata attraverso le sale del Museo è un meraviglioso viaggio nel passato: si conoscerà l’avventurosa storia di Pietro Accorsi tra aneddoti e curiosità e si scopriranno opere uniche e preziose\, mai viste così da vicino. \nCollegamento zoom: ID riunione: 959 3596 0933 – Passcode: 266238 – oppure Invito:\nhttps://zoom.us/j/95935960933?pwd=ak9mZ2RSL01oTENqYVdROWdIK216UT09
URL:https://www.univoca.org/evento/il-mercante-di-meraviglie-i-capolavori-del-museo-accorsi-ometto-di-torino/
LOCATION:online\, Italia
CATEGORIES:Eventi
ATTACH;FMTTYPE=image/jpeg:https://www.univoca.org/wp-content/uploads/museo-accorsi2.jpg
ORGANIZER;CN="UNIVOCA":MAILTO:info@univoca.org
END:VEVENT
END:VCALENDAR