BEGIN:VCALENDAR
VERSION:2.0
PRODID:-//UNI.VO.C.A. - ECPv5.9.1//NONSGML v1.0//EN
CALSCALE:GREGORIAN
METHOD:PUBLISH
X-WR-CALNAME:UNI.VO.C.A.
X-ORIGINAL-URL:https://www.univoca.org
X-WR-CALDESC:Eventi per UNI.VO.C.A.
BEGIN:VTIMEZONE
TZID:Europe/Rome
BEGIN:DAYLIGHT
TZOFFSETFROM:+0100
TZOFFSETTO:+0200
TZNAME:CEST
DTSTART:20220327T010000
END:DAYLIGHT
BEGIN:STANDARD
TZOFFSETFROM:+0200
TZOFFSETTO:+0100
TZNAME:CET
DTSTART:20221030T010000
END:STANDARD
END:VTIMEZONE
BEGIN:VEVENT
DTSTART;TZID=Europe/Rome:20220429T173000
DTEND;TZID=Europe/Rome:20220429T193000
DTSTAMP:20260422T151137
CREATED:20220419T143215Z
LAST-MODIFIED:20220419T143216Z
UID:6118-1651253400-1651260600@www.univoca.org
SUMMARY:EDP - Amore … per tutti … per sempre.
DESCRIPTION:0SHARESCondividiTweet\n            \n                \n            • Venerdì 29 aprile 2022\, ore 17\,30\, Amore … per tutti … per sempre. \nNuova Compagnia Teatrale diretta da Elena Paoli. \nUn viaggio immaginario e non solo alla ricerca della felicità nel mondo della realtà e della fantasia e nel nome dell’ amore.
URL:https://www.univoca.org/evento/edp-amore-per-tutti-per-sempre/
LOCATION:Torino – Educatorio della Provvidenza\, Corso Trento\, 13\, Torino
CATEGORIES:Eventi
ATTACH;FMTTYPE=image/jpeg:https://www.univoca.org/wp-content/uploads/Amici-Educatorio-logo.jpg
END:VEVENT
END:VCALENDAR