BEGIN:VCALENDAR
VERSION:2.0
PRODID:-//UNI.VO.C.A. - ECPv5.9.1//NONSGML v1.0//EN
CALSCALE:GREGORIAN
METHOD:PUBLISH
X-WR-CALNAME:UNI.VO.C.A.
X-ORIGINAL-URL:https://www.univoca.org
X-WR-CALDESC:Eventi per UNI.VO.C.A.
BEGIN:VTIMEZONE
TZID:Europe/Rome
BEGIN:DAYLIGHT
TZOFFSETFROM:+0100
TZOFFSETTO:+0200
TZNAME:CEST
DTSTART:20220327T010000
END:DAYLIGHT
BEGIN:STANDARD
TZOFFSETFROM:+0200
TZOFFSETTO:+0100
TZNAME:CET
DTSTART:20221030T010000
END:STANDARD
END:VTIMEZONE
BEGIN:VEVENT
DTSTART;TZID=Europe/Rome:20220925T100000
DTEND;TZID=Europe/Rome:20220925T180000
DTSTAMP:20260422T142635
CREATED:20220921T115133Z
LAST-MODIFIED:20220921T115133Z
UID:6552-1664100000-1664128800@www.univoca.org
SUMMARY:ArCA - VILLA ROMANA DI CASELETTE
DESCRIPTION:0SHARESCondividiTweet\n            \n                \n            Domenica 25 settembre 2022\, ore 10-12\,30 e 14\,30-18  \nCaselette (TO)  \n  \nArCA \n– XIII Giornata dell’Archeologia in Valle di Susa e Giornata del Patrimonio Archeologico – visita guidata alla VILLA ROMANA DI CASELETTE. La villa di Caselette occupava un’area di circa m. 46×60. Si tratta di una villa con funzioni residenziali\, costruita agli inizi dell’età imperiale e vissuta sino al collasso del sistema economico e politico romano (IV-V sec. d.C.).  \nInfo: arca.almese@gmail.com \n  \nAll’interno della VIII edizione della “Settimana della Cultura UNI.VO.C.A. – La cultura per amica”.\nPer il programma completo vai alla pagina della Settimana della Cultura UNI.VO.C.A. \n 
URL:https://www.univoca.org/evento/arca-villa-romana-di-caselette/
LOCATION:Villa romana di Caselette\, Caselette\, Italia
CATEGORIES:Eventi
ATTACH;FMTTYPE=image/jpeg:https://www.univoca.org/wp-content/uploads/caselette-2.jpg
ORGANIZER;CN="ArCA":MAILTO:arca.almese@gmail.com
END:VEVENT
END:VCALENDAR