BEGIN:VCALENDAR
VERSION:2.0
PRODID:-//UNI.VO.C.A. - ECPv5.9.1//NONSGML v1.0//EN
CALSCALE:GREGORIAN
METHOD:PUBLISH
X-WR-CALNAME:UNI.VO.C.A.
X-ORIGINAL-URL:https://www.univoca.org
X-WR-CALDESC:Eventi per UNI.VO.C.A.
BEGIN:VTIMEZONE
TZID:Europe/Rome
BEGIN:DAYLIGHT
TZOFFSETFROM:+0100
TZOFFSETTO:+0200
TZNAME:CEST
DTSTART:20220327T010000
END:DAYLIGHT
BEGIN:STANDARD
TZOFFSETFROM:+0200
TZOFFSETTO:+0100
TZNAME:CET
DTSTART:20221030T010000
END:STANDARD
END:VTIMEZONE
BEGIN:VEVENT
DTSTART;TZID=Europe/Rome:20220522T150000
DTEND;TZID=Europe/Rome:20220522T180000
DTSTAMP:20260421T203400
CREATED:20220410T064858Z
LAST-MODIFIED:20220410T064859Z
UID:6073-1653231600-1653242400@www.univoca.org
SUMMARY:ARCA - Villa romana di Almese.
DESCRIPTION:0SHARESCondividiTweet\n            \n                \n            * Domenica  22/05/2022 (h. 15\,00 – 18\,00) – Tour guidato alla Villa Romana di Almese.
URL:https://www.univoca.org/evento/arca-villa-romana-di-almese/
LOCATION:Almese – Villa romana
CATEGORIES:Eventi
ATTACH;FMTTYPE=image/jpeg:https://www.univoca.org/wp-content/uploads/ARCA-logo-1.jpg
ORGANIZER;CN="ArCA":MAILTO:arca.almese@gmail.com
END:VEVENT
END:VCALENDAR