BEGIN:VCALENDAR
VERSION:2.0
PRODID:-//UNI.VO.C.A. - ECPv5.9.1//NONSGML v1.0//EN
CALSCALE:GREGORIAN
METHOD:PUBLISH
X-WR-CALNAME:UNI.VO.C.A.
X-ORIGINAL-URL:https://www.univoca.org
X-WR-CALDESC:Eventi per UNI.VO.C.A.
BEGIN:VTIMEZONE
TZID:Europe/Rome
BEGIN:DAYLIGHT
TZOFFSETFROM:+0100
TZOFFSETTO:+0200
TZNAME:CEST
DTSTART:20220327T010000
END:DAYLIGHT
BEGIN:STANDARD
TZOFFSETFROM:+0200
TZOFFSETTO:+0100
TZNAME:CET
DTSTART:20221030T010000
END:STANDARD
END:VTIMEZONE
BEGIN:VEVENT
DTSTART;TZID=Europe/Rome:20220527T173000
DTEND;TZID=Europe/Rome:20220527T193000
DTSTAMP:20260421T172312
CREATED:20220321T141624Z
LAST-MODIFIED:20220321T141625Z
UID:6022-1653672600-1653679800@www.univoca.org
SUMMARY:AMICI EDUCATORIO DELLA PROVVIDENZA - L’ Universo Energetico dal Big Bang alla Ragnatela Cosmica. Che cosa ci dice Einstein
DESCRIPTION:0SHARESCondividiTweet\n            \n                \n            • Venerdì 27 maggio 2022\, ore 17\,30\, L’ Universo Energetico dal Big Bang alla Ragnatela Cosmica. Che cosa ci dice Einstein\, presso Educatorio della Provvidenza.\nRelatrice Sara Garino.\nInterviene Franco Ottone.
URL:https://www.univoca.org/evento/amici-educatorio-della-provvidenza-l-universo-energetico-dal-big-bang-alla-ragnatela-cosmica-che-cosa-ci-dice-einstein/
LOCATION:Torino – Educatorio della Provvidenza\, Corso Trento\, 13\, Torino
CATEGORIES:Eventi
END:VEVENT
END:VCALENDAR