BEGIN:VCALENDAR
VERSION:2.0
PRODID:-//UNI.VO.C.A. - ECPv5.9.1//NONSGML v1.0//EN
CALSCALE:GREGORIAN
METHOD:PUBLISH
X-WR-CALNAME:UNI.VO.C.A.
X-ORIGINAL-URL:https://www.univoca.org
X-WR-CALDESC:Eventi per UNI.VO.C.A.
BEGIN:VTIMEZONE
TZID:Europe/Rome
BEGIN:DAYLIGHT
TZOFFSETFROM:+0100
TZOFFSETTO:+0200
TZNAME:CEST
DTSTART:20220327T010000
END:DAYLIGHT
BEGIN:STANDARD
TZOFFSETFROM:+0200
TZOFFSETTO:+0100
TZNAME:CET
DTSTART:20221030T010000
END:STANDARD
END:VTIMEZONE
BEGIN:VEVENT
DTSTART;TZID=Europe/Rome:20220325T173000
DTEND;TZID=Europe/Rome:20220325T193000
DTSTAMP:20260421T211943
CREATED:20220321T142219Z
LAST-MODIFIED:20220321T142220Z
UID:6030-1648229400-1648236600@www.univoca.org
SUMMARY:AMICI DELL'EDUCATORIO DELLA PROVVIDENZA - In Salute e in Malattia.
DESCRIPTION:0SHARESCondividiTweet\n            \n                \n            • Venerdì 25 marzo 2022\, ore 17\,30\, In Salute e in Malattia\, a cura dell’Associazione Monginevro Cultura. Compagnia Teatrale Gli Instabili.\nRiflessioni tra il serio ed il faceto sulla pandemia e dintorni con richiami a Ovidio\, Poe\, Manzoni\, Pirandello.\nCanzoni e musica di Beppe Novajra .
URL:https://www.univoca.org/evento/amici-delleducatorio-della-provvidenza-in-salute-e-in-malattia/
LOCATION:Torino – Educatorio della Provvidenza\, Corso Trento\, 13\, Torino
CATEGORIES:Eventi
END:VEVENT
END:VCALENDAR