BEGIN:VCALENDAR
VERSION:2.0
PRODID:-//UNI.VO.C.A. - ECPv5.9.1//NONSGML v1.0//EN
CALSCALE:GREGORIAN
METHOD:PUBLISH
X-WR-CALNAME:UNI.VO.C.A.
X-ORIGINAL-URL:https://www.univoca.org
X-WR-CALDESC:Eventi per UNI.VO.C.A.
BEGIN:VTIMEZONE
TZID:Europe/Rome
BEGIN:DAYLIGHT
TZOFFSETFROM:+0100
TZOFFSETTO:+0200
TZNAME:CEST
DTSTART:20220327T010000
END:DAYLIGHT
BEGIN:STANDARD
TZOFFSETFROM:+0200
TZOFFSETTO:+0100
TZNAME:CET
DTSTART:20221030T010000
END:STANDARD
END:VTIMEZONE
BEGIN:VEVENT
DTSTART;TZID=Europe/Rome:20220923T173000
DTEND;TZID=Europe/Rome:20220923T183000
DTSTAMP:20260422T193921
CREATED:20220921T113404Z
LAST-MODIFIED:20220921T113404Z
UID:6525-1663954200-1663957800@www.univoca.org
SUMMARY:AMICI DELLA SACRA DI SAN MICHELE - Conferenza "MEMORIE CULTURALI E MONASTICHE DI UNA ABBAZIA BENEDETTINA"
DESCRIPTION:0SHARESCondividiTweet\n            \n                \n            Venerdì 23 settembre p.v. alle ore 17\,30\, presso la Fondazione Educatorio della Provvidenza\, Corso Trento 13 a Torino\, si terrà la conferenza dal titolo “MEMORIE CULTURALI E MONASTICHE DI UNA ABBAZIA BENEDETTINA: LA SACRA DI SAN MICHELE” a cura di Tiziana Connola\, Tesi di Laurea con gli studi aggiornati sulle origini della Sacra di San Michele. \nAll’interno della VIII Edizione della Settimana della Cultura di UNI.VO.C.A.\nPer il programma completo della Settimana della Cultura di UNI.VO.C.A. vai alla pagina della Settimana della Cultura UNI.VO.C.A. \n 
URL:https://www.univoca.org/evento/amici-della-sacra-di-san-michele-conferenza-memorie-culturali-e-monastiche-di-una-abbazia-benedettina/
LOCATION:Fond. Educatorio della Provvidenza\, Corso Trento\, 13\, Torino\, IT\, 10128\, Italia
CATEGORIES:Eventi
ATTACH;FMTTYPE=image/jpeg:https://www.univoca.org/wp-content/uploads/sacra4.jpg
END:VEVENT
END:VCALENDAR