BEGIN:VCALENDAR
VERSION:2.0
PRODID:-//UNI.VO.C.A. - ECPv5.9.1//NONSGML v1.0//EN
CALSCALE:GREGORIAN
METHOD:PUBLISH
X-WR-CALNAME:UNI.VO.C.A.
X-ORIGINAL-URL:https://www.univoca.org
X-WR-CALDESC:Eventi per UNI.VO.C.A.
BEGIN:VTIMEZONE
TZID:Europe/Rome
BEGIN:DAYLIGHT
TZOFFSETFROM:+0100
TZOFFSETTO:+0200
TZNAME:CEST
DTSTART:20220327T010000
END:DAYLIGHT
BEGIN:STANDARD
TZOFFSETFROM:+0200
TZOFFSETTO:+0100
TZNAME:CET
DTSTART:20221030T010000
END:STANDARD
END:VTIMEZONE
BEGIN:VEVENT
DTSTART;TZID=Europe/Rome:20220430T110000
DTEND;TZID=Europe/Rome:20220430T120000
DTSTAMP:20260422T133227
CREATED:20220321T135412Z
LAST-MODIFIED:20220410T075113Z
UID:5999-1651316400-1651320000@www.univoca.org
SUMMARY:AMAA. Museo Immaginato.
DESCRIPTION:0SHARESCondividiTweet\n            \n                \n            – Sabato 30 aprile 2022\, ore 11\,00\, online\, un “Museo Immaginato” organizzato con i giovani universitari che hanno scelto la nostra associazione per fare un’esperienza di volontariato culturale. \nCollegamento a piattaforma Agorà del Sapere/Zoom:  ID:94809088470 – PW: 275602 oppure Invito: \nhttps://zoom.us/j/94809088470?pwd=TEF0SHdoT1NRNGtqNnJjUko0RVFLUT09
URL:https://www.univoca.org/evento/amaa-medioevo-a-pistoia-crocevia-di-artisti-tra-romanico-e-gotico/
LOCATION:online\, Italia
CATEGORIES:Eventi
ATTACH;FMTTYPE=image/jpeg:https://www.univoca.org/wp-content/uploads/Amaa-2.jpg
END:VEVENT
END:VCALENDAR