BEGIN:VCALENDAR
VERSION:2.0
PRODID:-//UNI.VO.C.A. - ECPv5.9.1//NONSGML v1.0//EN
CALSCALE:GREGORIAN
METHOD:PUBLISH
X-WR-CALNAME:UNI.VO.C.A.
X-ORIGINAL-URL:https://www.univoca.org
X-WR-CALDESC:Eventi per UNI.VO.C.A.
BEGIN:VTIMEZONE
TZID:Europe/Rome
BEGIN:DAYLIGHT
TZOFFSETFROM:+0100
TZOFFSETTO:+0200
TZNAME:CEST
DTSTART:20220327T010000
END:DAYLIGHT
BEGIN:STANDARD
TZOFFSETFROM:+0200
TZOFFSETTO:+0100
TZNAME:CET
DTSTART:20221030T010000
END:STANDARD
END:VTIMEZONE
BEGIN:VEVENT
DTSTART;TZID=Europe/Rome:20220927T170000
DTEND;TZID=Europe/Rome:20220927T173000
DTSTAMP:20260420T115659
CREATED:20220921T120522Z
LAST-MODIFIED:20220921T120522Z
UID:6573-1664298000-1664299800@www.univoca.org
SUMMARY:AFOM - PROGETTO “PRESENTE!”
DESCRIPTION:0SHARESCondividiTweet\n            \n                \n            Martedì  27 settembre 2022\, ore 17 \nFondazione Educatorio della Provvidenza\, Corso Trento 13;  \nin presenza e online ZOOM ID: 96335691649 – PW: 246225 \n  \nAssociazione AMICI DELLA FONDAZIONE ORDINE MAURIZIANO – AFOM \nPROGETTO “PRESENTE!”. Presentazione dei risultati finora conseguiti nell’ambito del progetto svolto con il contributo del Ministero del Lavoro e delle Politiche Sociali\, in collaborazione con la Regione Piemonte (Direzione Sanità e Welfare Settore Politiche per i bambini\, le famiglie\, minori e giovani\, sostegno alle situazioni di fragilità sociale) nell’ambito del Bando “Progetti di rilevanza locale promossi da organizzazioni di volontariato\, associazioni di promozione sociale\, fondazioni del terzo settore”. \nSi segnala che sono stati prodotti tre video emozionali rispettivamente sulla Precettoria di Sant’Antonio di Ranverso (già visibile su Youtube)\, la Palazzina di Caccia di Stupinigi e l’Abbazia di Staffarda che saranno invece proiettati durante l’incontro. Sempre nell’ambito del progetto “Presente!”\, ancora in corso\, sono anche già state realizzate due pubblicazioni per ragazzi; i QR Code relativi ai pannelli esplicativi di Sant’Antonio di Ranverso; un Itinerario micaelico dalla Sacra di San Michele alla Precettoria di Sant’Antonio di Ranverso. Saranno presto realizzati anche laboratori didattici nelle scuole e laboratori per famiglie. \nInfo: 335.5489853 – info@afom.it \n  \nAll’interno della VIII Edizione della Settimana della Cultura di UNI.VO.C.A.\nPer il programma completo della Settimana della Cultura di UNI.VO.C.A. vai alla pagina della Settimana della Cultura UNI.VO.C.A. \n 
URL:https://www.univoca.org/evento/afom-progetto-presente/
LOCATION:Fond. Educatorio della Provvidenza\, Corso Trento\, 13\, Torino\, IT\, 10128\, Italia
CATEGORIES:Eventi
ATTACH;FMTTYPE=image/png:https://www.univoca.org/wp-content/uploads/PRESENTE.png
ORGANIZER;CN="Amici%20della%20Fondazione%20Ordine%20Mauriziano":MAILTO:info@afom.it
END:VEVENT
END:VCALENDAR