BEGIN:VCALENDAR
VERSION:2.0
PRODID:-//UNI.VO.C.A. - ECPv5.9.1//NONSGML v1.0//EN
CALSCALE:GREGORIAN
METHOD:PUBLISH
X-WR-CALNAME:UNI.VO.C.A.
X-ORIGINAL-URL:https://www.univoca.org
X-WR-CALDESC:Eventi per UNI.VO.C.A.
BEGIN:VTIMEZONE
TZID:Europe/Rome
BEGIN:DAYLIGHT
TZOFFSETFROM:+0100
TZOFFSETTO:+0200
TZNAME:CEST
DTSTART:20220327T010000
END:DAYLIGHT
BEGIN:STANDARD
TZOFFSETFROM:+0200
TZOFFSETTO:+0100
TZNAME:CET
DTSTART:20221030T010000
END:STANDARD
END:VTIMEZONE
BEGIN:VEVENT
DTSTART;TZID=Europe/Rome:20220519T180000
DTEND;TZID=Europe/Rome:20220519T193000
DTSTAMP:20260421T235520
CREATED:20220419T151518Z
LAST-MODIFIED:20220419T151518Z
UID:6138-1652983200-1652988600@www.univoca.org
SUMMARY:ACME - The third cataract project in Sudan\, archaeological entanglement on the Nile Valley.
DESCRIPTION:0SHARESCondividiTweet\n            \n                \n            * Giovedì 19 maggio 2022\, h. 18\,00\, in streaming\, in presenza\, in inglese\,\nThe third cataract project in Sudan\, archaeological entanglement on the Nile Valley\, a cura di Cédric Gobeil.
URL:https://www.univoca.org/evento/acme-the-third-cataract-project-in-sudan-archaeological-entanglement-on-the-nile-valley/
LOCATION:TORINO – Via Accademia delle Scienze\, 6
CATEGORIES:Eventi
ATTACH;FMTTYPE=image/jpeg:https://www.univoca.org/wp-content/uploads/logo-acme1.jpg
END:VEVENT
END:VCALENDAR