BEGIN:VCALENDAR
VERSION:2.0
PRODID:-//UNI.VO.C.A. - ECPv5.9.1//NONSGML v1.0//EN
CALSCALE:GREGORIAN
METHOD:PUBLISH
X-WR-CALNAME:UNI.VO.C.A.
X-ORIGINAL-URL:https://www.univoca.org
X-WR-CALDESC:Eventi per UNI.VO.C.A.
BEGIN:VTIMEZONE
TZID:Europe/Rome
BEGIN:DAYLIGHT
TZOFFSETFROM:+0100
TZOFFSETTO:+0200
TZNAME:CEST
DTSTART:20220327T010000
END:DAYLIGHT
BEGIN:STANDARD
TZOFFSETFROM:+0200
TZOFFSETTO:+0100
TZNAME:CET
DTSTART:20221030T010000
END:STANDARD
END:VTIMEZONE
BEGIN:VEVENT
DTSTART;TZID=Europe/Rome:20220428T180000
DTEND;TZID=Europe/Rome:20220428T193000
DTSTAMP:20260422T130451
CREATED:20220419T152500Z
LAST-MODIFIED:20220419T152500Z
UID:6144-1651168800-1651174200@www.univoca.org
SUMMARY:ACME - Mariette e Aida: viaggio negli archivi.
DESCRIPTION:0SHARESCondividiTweet\n            \n                \n            * Giovedì 28 aprile 2022\, ore 18\,00\, in presenza ed in streaming\, in italiano\,\nMariette e Aida: viaggio negli archivi\, a cura di Enrico Ferraris.
URL:https://www.univoca.org/evento/acme-mariette-e-aida-viaggio-negli-archivi/
LOCATION:TORINO – Via Accademia delle Scienze\, 6
CATEGORIES:Eventi
ATTACH;FMTTYPE=image/jpeg:https://www.univoca.org/wp-content/uploads/logo-acme1.jpg
END:VEVENT
END:VCALENDAR