BEGIN:VCALENDAR
VERSION:2.0
PRODID:-//UNI.VO.C.A. - ECPv5.9.1//NONSGML v1.0//EN
CALSCALE:GREGORIAN
METHOD:PUBLISH
X-WR-CALNAME:UNI.VO.C.A.
X-ORIGINAL-URL:https://www.univoca.org
X-WR-CALDESC:Eventi per UNI.VO.C.A.
BEGIN:VTIMEZONE
TZID:Europe/Rome
BEGIN:DAYLIGHT
TZOFFSETFROM:+0100
TZOFFSETTO:+0200
TZNAME:CEST
DTSTART:20220327T010000
END:DAYLIGHT
BEGIN:STANDARD
TZOFFSETFROM:+0200
TZOFFSETTO:+0100
TZNAME:CET
DTSTART:20221030T010000
END:STANDARD
END:VTIMEZONE
BEGIN:VEVENT
DTSTART;TZID=Europe/Rome:20220616T180000
DTEND;TZID=Europe/Rome:20220616T193000
DTSTAMP:20260421T111426
CREATED:20220419T150441Z
LAST-MODIFIED:20220419T150441Z
UID:6129-1655402400-1655407800@www.univoca.org
SUMMARY:ACME - Ernesto Schiapparelli a Tebe. Dai primi viaggi ai primi scavi archeologici.
DESCRIPTION:0SHARESCondividiTweet\n            \n                \n             * Giovedì 16 giugno 2022\, h. 18\,00\, in streaming\, in presenza\, in italiano\,\nErnesto Schiapparelli a Tebe. Dai primi viaggi ai primi scavi archeologici\, a cura di Paolo Del Vesco.
URL:https://www.univoca.org/evento/acme-ernesto-schiapparelli-a-tebe-dai-primi-viaggi-ai-primi-scavi-archeologici/
LOCATION:TORINO – Via Accademia delle Scienze\, 6
CATEGORIES:Eventi
ATTACH;FMTTYPE=image/jpeg:https://www.univoca.org/wp-content/uploads/logo-acme1.jpg
END:VEVENT
END:VCALENDAR