BEGIN:VCALENDAR
VERSION:2.0
PRODID:-//UNI.VO.C.A. - ECPv5.9.1//NONSGML v1.0//EN
CALSCALE:GREGORIAN
METHOD:PUBLISH
X-WR-CALNAME:UNI.VO.C.A.
X-ORIGINAL-URL:https://www.univoca.org
X-WR-CALDESC:Eventi per UNI.VO.C.A.
BEGIN:VTIMEZONE
TZID:Europe/Rome
BEGIN:DAYLIGHT
TZOFFSETFROM:+0100
TZOFFSETTO:+0200
TZNAME:CEST
DTSTART:20220327T010000
END:DAYLIGHT
BEGIN:STANDARD
TZOFFSETFROM:+0200
TZOFFSETTO:+0100
TZNAME:CET
DTSTART:20221030T010000
END:STANDARD
END:VTIMEZONE
BEGIN:VEVENT
DTSTART;TZID=Europe/Rome:20220524T180000
DTEND;TZID=Europe/Rome:20220524T193000
DTSTAMP:20260421T190203
CREATED:20220419T151148Z
LAST-MODIFIED:20220419T151148Z
UID:6135-1653415200-1653420600@www.univoca.org
SUMMARY:ACME - Between the Nile and the sea: the history and archaeology of eastern Sudan fron the neolithic to the medieval period.
DESCRIPTION:0SHARESCondividiTweet\n            \n                \n            * Martedì 24 maggio 2022\, h. 18\,00\, in streaming\, in inglese\,\nBetween the Nile and the sea: the history and archaeology of eastern Sudan fron the neolithic to the medieval period.\, a cura di Julien Cooper\, United International College\, Beiljng Normal University\, Zhuhal (China)
URL:https://www.univoca.org/evento/acme-between-the-nile-and-the-sea-the-history-and-archaeology-of-eastern-sudan-fron-the-neolithic-to-the-medieval-period/
LOCATION:online\, Italia
CATEGORIES:Eventi
ATTACH;FMTTYPE=image/jpeg:https://www.univoca.org/wp-content/uploads/logo-acme1.jpg
END:VEVENT
END:VCALENDAR