BEGIN:VCALENDAR
VERSION:2.0
PRODID:-//UNI.VO.C.A. - ECPv5.9.1//NONSGML v1.0//EN
CALSCALE:GREGORIAN
METHOD:PUBLISH
X-WR-CALNAME:UNI.VO.C.A.
X-ORIGINAL-URL:https://www.univoca.org
X-WR-CALDESC:Eventi per UNI.VO.C.A.
BEGIN:VTIMEZONE
TZID:Europe/Rome
BEGIN:DAYLIGHT
TZOFFSETFROM:+0100
TZOFFSETTO:+0200
TZNAME:CEST
DTSTART:20220327T010000
END:DAYLIGHT
BEGIN:STANDARD
TZOFFSETFROM:+0200
TZOFFSETTO:+0100
TZNAME:CET
DTSTART:20221030T010000
END:STANDARD
END:VTIMEZONE
BEGIN:VEVENT
DTSTART;TZID=Europe/Rome:20220506T000000
DTEND;TZID=Europe/Rome:20220904T000000
DTSTAMP:20260423T132805
CREATED:20220410T064158Z
LAST-MODIFIED:20220410T064158Z
UID:6067-1651795200-1662249600@www.univoca.org
SUMMARY:TORINO. Il Grande Vuoto. Dal suono all'immagine.
DESCRIPTION:L’Associazione Volontari Mio MAO segnala la seguente mostra al Museo d’Arte Orientale. \nUna nuova mostra al Museo d’Arte Orientale\, dal 6 maggio al 4 settembre 2022\, Un incontro inedito con la collezione buddhista del Museo. Un’esperienza multisensoriale particolarmente coinvolgente che è anche un segno forte di speranza per un futuro che si rivela incerto e sconfortante.\nLa mostra si apre con un grande spazio vuoto. Non si tratta però di un vuoto vero e proprio\, ma di uno spazio che si satura gradualmente con la presenza delle note del giovane e pluripremiato compositore romano Vittorio Montalti\, che per l’occasione ha composto il brano “Il Grande Vuoto”. I visitatori sono invitati dalla musica a compiere un percorso esperienziale e meditativo\, per giungere al fulcro della mostra\, in Sala Colonne: qui è infatti esposta una rarissima thangka tibetana del XV secolo\, la più preziosa delle collezioni del MAO\, che ritrae Maitreya\, il Buddha del Futuro. \nFonte: Museo d’Arte Orientale Torino – https://www.maotorino.it
URL:https://www.univoca.org/evento/torino-il-grande-vuoto-dal-suono-allimmagine/
LOCATION:Torino – Museo d’Arte Orientale\, Torino
CATEGORIES:Mostre
ATTACH;FMTTYPE=image/jpeg:https://www.univoca.org/wp-content/uploads/mio-mao-2.jpg
END:VEVENT
END:VCALENDAR